BEGIN:VCALENDAR
VERSION:2.0
PRODID:-//GGCN - ECPv6.15.20//NONSGML v1.0//EN
CALSCALE:GREGORIAN
METHOD:PUBLISH
X-ORIGINAL-URL:https://www.ggcn.org
X-WR-CALDESC:Events for GGCN
REFRESH-INTERVAL;VALUE=DURATION:PT1H
X-Robots-Tag:noindex
X-PUBLISHED-TTL:PT1H
BEGIN:VTIMEZONE
TZID:UTC
BEGIN:STANDARD
TZOFFSETFROM:+0000
TZOFFSETTO:+0000
TZNAME:UTC
DTSTART:20240101T000000
END:STANDARD
END:VTIMEZONE
BEGIN:VEVENT
DTSTART;VALUE=DATE:20250122
DTEND;VALUE=DATE:20250201
DTSTAMP:20260424T151834
CREATED:20240531T164130Z
LAST-MODIFIED:20240531T164130Z
UID:4298-1737504000-1738367999@www.ggcn.org
SUMMARY:School of Mobilization Prayer (SOMP)
DESCRIPTION:The School of Mobilization Prayer is for leaders and believers alike wanting to grow in and be equipped to help their Churches\, Organizations\, Denominations and Networks engage in “Mobilization Prayer.” Prayer for the global Church to become all God intends spiritually while simultaneously prioritizing and emphasizing the Great Commission heartbeat of God as intended.
URL:https://www.ggcn.org/event/school-of-mobilization-prayer-somp-2/
LOCATION:Chiang Mai\, Thailand\, Thailand
END:VEVENT
BEGIN:VEVENT
DTSTART;VALUE=DATE:20250319
DTEND;VALUE=DATE:20250329
DTSTAMP:20260424T151834
CREATED:20240531T174341Z
LAST-MODIFIED:20240531T174341Z
UID:4299-1742342400-1743206399@www.ggcn.org
SUMMARY:School of Mobilization Theology (SOMT)
DESCRIPTION:The School of Mobilization Theology (SOMT) equips participants with a Biblical theology of mission mobilization. Mobilization\, as a unique ministry entity separated yet connected to global mission itself\, is deeply rooted in both Old and New Testaments and in need of a clearly defined theology. With where God is taking the global Church in mission mobilization\, it is necessary to study “Mobilization Theology” and work to see it integrated into our Bible Schools\, Ministry Training Curriculums\, Seminaries as a distinct field of study.
URL:https://www.ggcn.org/event/school-of-mobilization-theology-somt/
LOCATION:Chiang Mai\, Thailand\, Thailand
END:VEVENT
BEGIN:VEVENT
DTSTART;VALUE=DATE:20250508
DTEND;VALUE=DATE:20250509
DTSTAMP:20260424T151834
CREATED:20250306T164354Z
LAST-MODIFIED:20250306T164354Z
UID:4363-1746662400-1746748799@www.ggcn.org
SUMMARY:BAM Global Summit - 2025
DESCRIPTION:BAM Global Summit  \nExcitement is building for the BAM Global Summit on 8 May 2025\, and early bird registration is now open! This online gathering is a key opportunity to connect with like-minded BAM mobilizers\, champions and practitioners\, hear from seasoned leaders\, and be inspired by real stories of Kingdom impact through business. Don’t miss it! Register Now & Save Before 31 March
URL:https://www.ggcn.org/event/bam-global-summit-2025/
LOCATION:Online
END:VEVENT
END:VCALENDAR